BEGIN:VCALENDAR
VERSION:2.0
PRODID:-//Ros Canter Eventing - ECPv6.15.16//NONSGML v1.0//EN
CALSCALE:GREGORIAN
METHOD:PUBLISH
X-ORIGINAL-URL:https://www.roscantereventing.com
X-WR-CALDESC:Events for Ros Canter Eventing
REFRESH-INTERVAL;VALUE=DURATION:PT1H
X-Robots-Tag:noindex
X-PUBLISHED-TTL:PT1H
BEGIN:VTIMEZONE
TZID:Europe/London
BEGIN:DAYLIGHT
TZOFFSETFROM:+0000
TZOFFSETTO:+0100
TZNAME:BST
DTSTART:20210328T010000
END:DAYLIGHT
BEGIN:STANDARD
TZOFFSETFROM:+0100
TZOFFSETTO:+0000
TZNAME:GMT
DTSTART:20211031T010000
END:STANDARD
BEGIN:DAYLIGHT
TZOFFSETFROM:+0000
TZOFFSETTO:+0100
TZNAME:BST
DTSTART:20220327T010000
END:DAYLIGHT
BEGIN:STANDARD
TZOFFSETFROM:+0100
TZOFFSETTO:+0000
TZNAME:GMT
DTSTART:20221030T010000
END:STANDARD
BEGIN:DAYLIGHT
TZOFFSETFROM:+0000
TZOFFSETTO:+0100
TZNAME:BST
DTSTART:20230326T010000
END:DAYLIGHT
BEGIN:STANDARD
TZOFFSETFROM:+0100
TZOFFSETTO:+0000
TZNAME:GMT
DTSTART:20231029T010000
END:STANDARD
END:VTIMEZONE
BEGIN:VEVENT
DTSTART;VALUE=DATE:20220901
DTEND;VALUE=DATE:20220906
DTSTAMP:20260424T005958
CREATED:20220731T121951Z
LAST-MODIFIED:20220731T121951Z
UID:7241-1661994000-1662339599@www.roscantereventing.com
SUMMARY:Burghley
DESCRIPTION:
URL:https://www.roscantereventing.com/event/burghley/
END:VEVENT
BEGIN:VEVENT
DTSTART;VALUE=DATE:20220909
DTEND;VALUE=DATE:20220911
DTSTAMP:20260424T005958
CREATED:20220908T100037Z
LAST-MODIFIED:20220912T091311Z
UID:7309-1662685200-1662771599@www.roscantereventing.com
SUMMARY:Cornbury
DESCRIPTION:
URL:https://www.roscantereventing.com/event/cornbury/
END:VEVENT
BEGIN:VEVENT
DTSTART;VALUE=DATE:20220914
DTEND;VALUE=DATE:20220920
DTSTAMP:20260424T005958
CREATED:20220830T084257Z
LAST-MODIFIED:20220830T084257Z
UID:7275-1663117200-1663549199@www.roscantereventing.com
SUMMARY:World Championships Pratoni
DESCRIPTION:
URL:https://www.roscantereventing.com/event/world-championships-pratoni/
END:VEVENT
BEGIN:VEVENT
DTSTART;VALUE=DATE:20220924
DTEND;VALUE=DATE:20220926
DTSTAMP:20260424T005958
CREATED:20220919T153256Z
LAST-MODIFIED:20220919T153256Z
UID:7320-1663981200-1664067599@www.roscantereventing.com
SUMMARY:Moreton Morrell
DESCRIPTION:
URL:https://www.roscantereventing.com/event/moreton-morrell/
END:VEVENT
BEGIN:VEVENT
DTSTART;VALUE=DATE:20220926
DTEND;VALUE=DATE:20220928
DTSTAMP:20260424T005958
CREATED:20220928T133050Z
LAST-MODIFIED:20220928T133050Z
UID:7353-1664154000-1664240399@www.roscantereventing.com
SUMMARY:Little Downham
DESCRIPTION:
URL:https://www.roscantereventing.com/event/little-downham-2/
END:VEVENT
BEGIN:VEVENT
DTSTART;VALUE=DATE:20220929
DTEND;VALUE=DATE:20221004
DTSTAMP:20260424T005958
CREATED:20220919T153355Z
LAST-MODIFIED:20220919T153355Z
UID:7322-1664413200-1664758799@www.roscantereventing.com
SUMMARY:Osberton
DESCRIPTION:
URL:https://www.roscantereventing.com/event/osberton/
END:VEVENT
END:VCALENDAR