BEGIN:VCALENDAR
VERSION:2.0
PRODID:-//Ros Canter Eventing - ECPv6.15.16//NONSGML v1.0//EN
CALSCALE:GREGORIAN
METHOD:PUBLISH
X-WR-CALNAME:Ros Canter Eventing
X-ORIGINAL-URL:https://www.roscantereventing.com
X-WR-CALDESC:Events for Ros Canter Eventing
REFRESH-INTERVAL;VALUE=DURATION:PT1H
X-Robots-Tag:noindex
X-PUBLISHED-TTL:PT1H
BEGIN:VTIMEZONE
TZID:Europe/London
BEGIN:DAYLIGHT
TZOFFSETFROM:+0000
TZOFFSETTO:+0100
TZNAME:BST
DTSTART:20220327T010000
END:DAYLIGHT
BEGIN:STANDARD
TZOFFSETFROM:+0100
TZOFFSETTO:+0000
TZNAME:GMT
DTSTART:20221030T010000
END:STANDARD
BEGIN:DAYLIGHT
TZOFFSETFROM:+0000
TZOFFSETTO:+0100
TZNAME:BST
DTSTART:20230326T010000
END:DAYLIGHT
BEGIN:STANDARD
TZOFFSETFROM:+0100
TZOFFSETTO:+0000
TZNAME:GMT
DTSTART:20231029T010000
END:STANDARD
BEGIN:DAYLIGHT
TZOFFSETFROM:+0000
TZOFFSETTO:+0100
TZNAME:BST
DTSTART:20240331T010000
END:DAYLIGHT
BEGIN:STANDARD
TZOFFSETFROM:+0100
TZOFFSETTO:+0000
TZNAME:GMT
DTSTART:20241027T010000
END:STANDARD
END:VTIMEZONE
BEGIN:VEVENT
DTSTART;VALUE=DATE:20230331
DTEND;VALUE=DATE:20230404
DTSTAMP:20260423T122419
CREATED:20230406T153121Z
LAST-MODIFIED:20230406T153121Z
UID:7804-1680224400-1680483599@www.roscantereventing.com
SUMMARY:Thoresby Park
DESCRIPTION:
URL:https://www.roscantereventing.com/event/thoresby-park/
END:VEVENT
BEGIN:VEVENT
DTSTART;VALUE=DATE:20230408
DTEND;VALUE=DATE:20230411
DTSTAMP:20260423T122419
CREATED:20230406T153220Z
LAST-MODIFIED:20230406T153220Z
UID:7806-1680915600-1681088399@www.roscantereventing.com
SUMMARY:Norton Disney
DESCRIPTION:
URL:https://www.roscantereventing.com/event/norton-disney-3/
END:VEVENT
BEGIN:VEVENT
DTSTART;VALUE=DATE:20230414
DTEND;VALUE=DATE:20230418
DTSTAMP:20260423T122419
CREATED:20230406T153307Z
LAST-MODIFIED:20230406T153307Z
UID:7808-1681434000-1681693199@www.roscantereventing.com
SUMMARY:Burnham Market
DESCRIPTION:
URL:https://www.roscantereventing.com/event/burnham-market-2/
END:VEVENT
BEGIN:VEVENT
DTSTART;VALUE=DATE:20230428
DTEND;VALUE=DATE:20230430
DTSTAMP:20260423T122419
CREATED:20230416T081432Z
LAST-MODIFIED:20230416T081432Z
UID:7820-1682643600-1682729999@www.roscantereventing.com
SUMMARY:Richmond
DESCRIPTION:
URL:https://www.roscantereventing.com/event/richmond/
END:VEVENT
BEGIN:VEVENT
DTSTART;VALUE=DATE:20230430
DTEND;VALUE=DATE:20230502
DTSTAMP:20260423T122419
CREATED:20230416T081539Z
LAST-MODIFIED:20230416T081539Z
UID:7822-1682816400-1682902799@www.roscantereventing.com
SUMMARY:Cirencester
DESCRIPTION:
URL:https://www.roscantereventing.com/event/cirencester-2/
END:VEVENT
END:VCALENDAR