BEGIN:VCALENDAR
VERSION:2.0
PRODID:-//Ros Canter Eventing - ECPv6.15.16//NONSGML v1.0//EN
CALSCALE:GREGORIAN
METHOD:PUBLISH
X-ORIGINAL-URL:https://www.roscantereventing.com
X-WR-CALDESC:Events for Ros Canter Eventing
REFRESH-INTERVAL;VALUE=DURATION:PT1H
X-Robots-Tag:noindex
X-PUBLISHED-TTL:PT1H
BEGIN:VTIMEZONE
TZID:Europe/London
BEGIN:DAYLIGHT
TZOFFSETFROM:+0000
TZOFFSETTO:+0100
TZNAME:BST
DTSTART:20230326T010000
END:DAYLIGHT
BEGIN:STANDARD
TZOFFSETFROM:+0100
TZOFFSETTO:+0000
TZNAME:GMT
DTSTART:20231029T010000
END:STANDARD
BEGIN:DAYLIGHT
TZOFFSETFROM:+0000
TZOFFSETTO:+0100
TZNAME:BST
DTSTART:20240331T010000
END:DAYLIGHT
BEGIN:STANDARD
TZOFFSETFROM:+0100
TZOFFSETTO:+0000
TZNAME:GMT
DTSTART:20241027T010000
END:STANDARD
BEGIN:DAYLIGHT
TZOFFSETFROM:+0000
TZOFFSETTO:+0100
TZNAME:BST
DTSTART:20250330T010000
END:DAYLIGHT
BEGIN:STANDARD
TZOFFSETFROM:+0100
TZOFFSETTO:+0000
TZNAME:GMT
DTSTART:20251026T010000
END:STANDARD
END:VTIMEZONE
BEGIN:VEVENT
DTSTART;VALUE=DATE:20240503
DTEND;VALUE=DATE:20240506
DTSTAMP:20260420T124205
CREATED:20240410T104227Z
LAST-MODIFIED:20240410T104227Z
UID:8391-1714698000-1714870799@www.roscantereventing.com
SUMMARY:Osberton
DESCRIPTION:
URL:https://www.roscantereventing.com/event/osberton-2/
END:VEVENT
BEGIN:VEVENT
DTSTART;VALUE=DATE:20240508
DTEND;VALUE=DATE:20240514
DTSTAMP:20260420T124205
CREATED:20240422T093006Z
LAST-MODIFIED:20240422T093006Z
UID:8403-1715130000-1715561999@www.roscantereventing.com
SUMMARY:Badminton
DESCRIPTION:
URL:https://www.roscantereventing.com/event/badminton-3/
END:VEVENT
BEGIN:VEVENT
DTSTART;VALUE=DATE:20240516
DTEND;VALUE=DATE:20240518
DTSTAMP:20260420T124205
CREATED:20240514T085539Z
LAST-MODIFIED:20240514T085539Z
UID:8415-1715821200-1715907599@www.roscantereventing.com
SUMMARY:Aston-le-Walls
DESCRIPTION:
URL:https://www.roscantereventing.com/event/aston-le-walls-5/
END:VEVENT
BEGIN:VEVENT
DTSTART;VALUE=DATE:20240518
DTEND;VALUE=DATE:20240521
DTSTAMP:20260420T124205
CREATED:20240423T164300Z
LAST-MODIFIED:20240423T164300Z
UID:8405-1715994000-1716166799@www.roscantereventing.com
SUMMARY:Chatsworth
DESCRIPTION:
URL:https://www.roscantereventing.com/event/chatsworth-3/
END:VEVENT
BEGIN:VEVENT
DTSTART;VALUE=DATE:20240523
DTEND;VALUE=DATE:20240528
DTSTAMP:20260420T124205
CREATED:20240514T095058Z
LAST-MODIFIED:20240514T095058Z
UID:8417-1716426000-1716771599@www.roscantereventing.com
SUMMARY:Bicton
DESCRIPTION:
URL:https://www.roscantereventing.com/event/bicton/
END:VEVENT
BEGIN:VEVENT
DTSTART;VALUE=DATE:20240531
DTEND;VALUE=DATE:20240604
DTSTAMP:20260420T124205
CREATED:20240514T081041Z
LAST-MODIFIED:20240514T081041Z
UID:8411-1717117200-1717376399@www.roscantereventing.com
SUMMARY:Little Downham
DESCRIPTION:
URL:https://www.roscantereventing.com/event/little-downham-4/
END:VEVENT
END:VCALENDAR