BEGIN:VCALENDAR
VERSION:2.0
PRODID:-//Ros Canter Eventing - ECPv6.15.16//NONSGML v1.0//EN
CALSCALE:GREGORIAN
METHOD:PUBLISH
X-ORIGINAL-URL:https://www.roscantereventing.com
X-WR-CALDESC:Events for Ros Canter Eventing
REFRESH-INTERVAL;VALUE=DURATION:PT1H
X-Robots-Tag:noindex
X-PUBLISHED-TTL:PT1H
BEGIN:VTIMEZONE
TZID:Europe/London
BEGIN:DAYLIGHT
TZOFFSETFROM:+0000
TZOFFSETTO:+0100
TZNAME:BST
DTSTART:20230326T010000
END:DAYLIGHT
BEGIN:STANDARD
TZOFFSETFROM:+0100
TZOFFSETTO:+0000
TZNAME:GMT
DTSTART:20231029T010000
END:STANDARD
BEGIN:DAYLIGHT
TZOFFSETFROM:+0000
TZOFFSETTO:+0100
TZNAME:BST
DTSTART:20240331T010000
END:DAYLIGHT
BEGIN:STANDARD
TZOFFSETFROM:+0100
TZOFFSETTO:+0000
TZNAME:GMT
DTSTART:20241027T010000
END:STANDARD
BEGIN:DAYLIGHT
TZOFFSETFROM:+0000
TZOFFSETTO:+0100
TZNAME:BST
DTSTART:20250330T010000
END:DAYLIGHT
BEGIN:STANDARD
TZOFFSETFROM:+0100
TZOFFSETTO:+0000
TZNAME:GMT
DTSTART:20251026T010000
END:STANDARD
END:VTIMEZONE
BEGIN:VEVENT
DTSTART;VALUE=DATE:20240803
DTEND;VALUE=DATE:20240805
DTSTAMP:20260420T063748
CREATED:20240710T064909Z
LAST-MODIFIED:20240710T064909Z
UID:8490-1722646800-1722733199@www.roscantereventing.com
SUMMARY:Little Downham
DESCRIPTION:
URL:https://www.roscantereventing.com/event/little-downham-5/
END:VEVENT
BEGIN:VEVENT
DTSTART;VALUE=DATE:20240808
DTEND;VALUE=DATE:20240811
DTSTAMP:20260420T063748
CREATED:20240718T070602Z
LAST-MODIFIED:20240718T070602Z
UID:8507-1723078800-1723251599@www.roscantereventing.com
SUMMARY:Aston le Walls
DESCRIPTION:
URL:https://www.roscantereventing.com/event/aston-le-walls-7/
END:VEVENT
BEGIN:VEVENT
DTSTART;VALUE=DATE:20240818
DTEND;VALUE=DATE:20240820
DTSTAMP:20260420T063748
CREATED:20240803T113511Z
LAST-MODIFIED:20240803T113511Z
UID:8518-1723942800-1724029199@www.roscantereventing.com
SUMMARY:Frickley Park
DESCRIPTION:
URL:https://www.roscantereventing.com/event/frickley-park-3/
END:VEVENT
BEGIN:VEVENT
DTSTART;VALUE=DATE:20240822
DTEND;VALUE=DATE:20240827
DTSTAMP:20260420T063748
CREATED:20240803T113254Z
LAST-MODIFIED:20240803T113254Z
UID:8516-1724288400-1724633999@www.roscantereventing.com
SUMMARY:Blair Castle
DESCRIPTION:
URL:https://www.roscantereventing.com/event/blair-castle-2/
END:VEVENT
BEGIN:VEVENT
DTSTART;VALUE=DATE:20240831
DTEND;VALUE=DATE:20240902
DTSTAMP:20260420T063748
CREATED:20240806T094110Z
LAST-MODIFIED:20240806T094110Z
UID:8525-1725066000-1725152399@www.roscantereventing.com
SUMMARY:Epworth
DESCRIPTION:
URL:https://www.roscantereventing.com/event/epworth/
END:VEVENT
END:VCALENDAR