BEGIN:VCALENDAR
VERSION:2.0
PRODID:-//Ros Canter Eventing - ECPv6.15.16//NONSGML v1.0//EN
CALSCALE:GREGORIAN
METHOD:PUBLISH
X-ORIGINAL-URL:https://www.roscantereventing.com
X-WR-CALDESC:Events for Ros Canter Eventing
REFRESH-INTERVAL;VALUE=DURATION:PT1H
X-Robots-Tag:noindex
X-PUBLISHED-TTL:PT1H
BEGIN:VTIMEZONE
TZID:Europe/London
BEGIN:DAYLIGHT
TZOFFSETFROM:+0000
TZOFFSETTO:+0100
TZNAME:BST
DTSTART:20230326T010000
END:DAYLIGHT
BEGIN:STANDARD
TZOFFSETFROM:+0100
TZOFFSETTO:+0000
TZNAME:GMT
DTSTART:20231029T010000
END:STANDARD
BEGIN:DAYLIGHT
TZOFFSETFROM:+0000
TZOFFSETTO:+0100
TZNAME:BST
DTSTART:20240331T010000
END:DAYLIGHT
BEGIN:STANDARD
TZOFFSETFROM:+0100
TZOFFSETTO:+0000
TZNAME:GMT
DTSTART:20241027T010000
END:STANDARD
BEGIN:DAYLIGHT
TZOFFSETFROM:+0000
TZOFFSETTO:+0100
TZNAME:BST
DTSTART:20250330T010000
END:DAYLIGHT
BEGIN:STANDARD
TZOFFSETFROM:+0100
TZOFFSETTO:+0000
TZNAME:GMT
DTSTART:20251026T010000
END:STANDARD
END:VTIMEZONE
BEGIN:VEVENT
DTSTART;VALUE=DATE:20240831
DTEND;VALUE=DATE:20240902
DTSTAMP:20260420T045922
CREATED:20240806T094110Z
LAST-MODIFIED:20240806T094110Z
UID:8525-1725066000-1725152399@www.roscantereventing.com
SUMMARY:Epworth
DESCRIPTION:
URL:https://www.roscantereventing.com/event/epworth/
END:VEVENT
BEGIN:VEVENT
DTSTART;VALUE=DATE:20240904
DTEND;VALUE=DATE:20240910
DTSTAMP:20260420T045922
CREATED:20240815T082059Z
LAST-MODIFIED:20240815T082059Z
UID:8530-1725411600-1725843599@www.roscantereventing.com
SUMMARY:Burghley
DESCRIPTION:
URL:https://www.roscantereventing.com/event/burghley-3/
END:VEVENT
BEGIN:VEVENT
DTSTART;VALUE=DATE:20240914
DTEND;VALUE=DATE:20240917
DTSTAMP:20260420T045922
CREATED:20240916T095358Z
LAST-MODIFIED:20250605T183055Z
UID:8578-1726275600-1726448399@www.roscantereventing.com
SUMMARY:Cornbury
DESCRIPTION:
URL:https://www.roscantereventing.com/event/cornbury-3/
CATEGORIES:events
END:VEVENT
BEGIN:VEVENT
DTSTART;VALUE=DATE:20240921
DTEND;VALUE=DATE:20240923
DTSTAMP:20260420T045922
CREATED:20240916T095441Z
LAST-MODIFIED:20250605T183055Z
UID:8580-1726880400-1726966799@www.roscantereventing.com
SUMMARY:Allerton Park
DESCRIPTION:
URL:https://www.roscantereventing.com/event/allerton-park-2/
CATEGORIES:events
END:VEVENT
BEGIN:VEVENT
DTSTART;VALUE=DATE:20240929
DTEND;VALUE=DATE:20241001
DTSTAMP:20260420T045922
CREATED:20240916T091145Z
LAST-MODIFIED:20250605T183055Z
UID:8576-1727571600-1727657999@www.roscantereventing.com
SUMMARY:L Downham
DESCRIPTION:
URL:https://www.roscantereventing.com/event/l-downham/
CATEGORIES:events
END:VEVENT
END:VCALENDAR