BEGIN:VCALENDAR
VERSION:2.0
PRODID:-//Ros Canter Eventing - ECPv6.15.16//NONSGML v1.0//EN
CALSCALE:GREGORIAN
METHOD:PUBLISH
X-WR-CALNAME:Ros Canter Eventing
X-ORIGINAL-URL:https://www.roscantereventing.com
X-WR-CALDESC:Events for Ros Canter Eventing
REFRESH-INTERVAL;VALUE=DURATION:PT1H
X-Robots-Tag:noindex
X-PUBLISHED-TTL:PT1H
BEGIN:VTIMEZONE
TZID:Europe/London
BEGIN:DAYLIGHT
TZOFFSETFROM:+0000
TZOFFSETTO:+0100
TZNAME:BST
DTSTART:20240331T010000
END:DAYLIGHT
BEGIN:STANDARD
TZOFFSETFROM:+0100
TZOFFSETTO:+0000
TZNAME:GMT
DTSTART:20241027T010000
END:STANDARD
BEGIN:DAYLIGHT
TZOFFSETFROM:+0000
TZOFFSETTO:+0100
TZNAME:BST
DTSTART:20250330T010000
END:DAYLIGHT
BEGIN:STANDARD
TZOFFSETFROM:+0100
TZOFFSETTO:+0000
TZNAME:GMT
DTSTART:20251026T010000
END:STANDARD
BEGIN:DAYLIGHT
TZOFFSETFROM:+0000
TZOFFSETTO:+0100
TZNAME:BST
DTSTART:20260329T010000
END:DAYLIGHT
BEGIN:STANDARD
TZOFFSETFROM:+0100
TZOFFSETTO:+0000
TZNAME:GMT
DTSTART:20261025T010000
END:STANDARD
END:VTIMEZONE
BEGIN:VEVENT
DTSTART;VALUE=DATE:20250301
DTEND;VALUE=DATE:20250302
DTSTAMP:20260419T160555
CREATED:20250211T113923Z
LAST-MODIFIED:20250605T183055Z
UID:8798-1740787200-1740873599@www.roscantereventing.com
SUMMARY:Epworth
DESCRIPTION:BE100
URL:https://www.roscantereventing.com/event/epworth-2/
CATEGORIES:events
END:VEVENT
BEGIN:VEVENT
DTSTART;TZID=Europe/London:20250306T080000
DTEND;TZID=Europe/London:20250307T170000
DTSTAMP:20260419T160555
CREATED:20250211T114833Z
LAST-MODIFIED:20250605T183055Z
UID:8801-1741248000-1741366800@www.roscantereventing.com
SUMMARY:Oasby
DESCRIPTION:Novice ~ Open Novice ~ Intermediate ~ Open Intermediate
URL:https://www.roscantereventing.com/event/oasby-4/
CATEGORIES:events
END:VEVENT
BEGIN:VEVENT
DTSTART;VALUE=DATE:20250314
DTEND;VALUE=DATE:20250317
DTSTAMP:20260419T160555
CREATED:20250219T112229Z
LAST-MODIFIED:20250605T183055Z
UID:8804-1741910400-1742169599@www.roscantereventing.com
SUMMARY:Lincoln
DESCRIPTION:BE100 ~ Novice ~ Open Novice ~ Intermediate ~ Open Intermediate
URL:https://www.roscantereventing.com/event/lincoln/
CATEGORIES:events
END:VEVENT
BEGIN:VEVENT
DTSTART;VALUE=DATE:20250327
DTEND;VALUE=DATE:20250401
DTSTAMP:20260419T160555
CREATED:20250226T100948Z
LAST-MODIFIED:20250605T183055Z
UID:8806-1743033600-1743382799@www.roscantereventing.com
SUMMARY:Thoresby Park
DESCRIPTION:Novice ~ Intermediate ~ Open Intermediate ~ CCI4*S
URL:https://www.roscantereventing.com/event/thoresby-park-3/
CATEGORIES:events
END:VEVENT
END:VCALENDAR